BEGIN:VCALENDAR
VERSION:2.0
PRODID:-//Östgötafolk - ECPv6.15.20//NONSGML v1.0//EN
CALSCALE:GREGORIAN
METHOD:PUBLISH
X-WR-CALNAME:Östgötafolk
X-ORIGINAL-URL:https://folkmusik.nu
X-WR-CALDESC:Händelser för Östgötafolk
REFRESH-INTERVAL;VALUE=DURATION:PT1H
X-Robots-Tag:noindex
X-PUBLISHED-TTL:PT1H
BEGIN:VTIMEZONE
TZID:Europe/Stockholm
BEGIN:DAYLIGHT
TZOFFSETFROM:+0100
TZOFFSETTO:+0200
TZNAME:CEST
DTSTART:20230326T010000
END:DAYLIGHT
BEGIN:STANDARD
TZOFFSETFROM:+0200
TZOFFSETTO:+0100
TZNAME:CET
DTSTART:20231029T010000
END:STANDARD
BEGIN:DAYLIGHT
TZOFFSETFROM:+0100
TZOFFSETTO:+0200
TZNAME:CEST
DTSTART:20240331T010000
END:DAYLIGHT
BEGIN:STANDARD
TZOFFSETFROM:+0200
TZOFFSETTO:+0100
TZNAME:CET
DTSTART:20241027T010000
END:STANDARD
BEGIN:DAYLIGHT
TZOFFSETFROM:+0100
TZOFFSETTO:+0200
TZNAME:CEST
DTSTART:20250330T010000
END:DAYLIGHT
BEGIN:STANDARD
TZOFFSETFROM:+0200
TZOFFSETTO:+0100
TZNAME:CET
DTSTART:20251026T010000
END:STANDARD
END:VTIMEZONE
BEGIN:VEVENT
DTSTART;TZID=Europe/Stockholm:20240518T120000
DTEND;TZID=Europe/Stockholm:20240518T160000
DTSTAMP:20260425T060347
CREATED:20240513T125622Z
LAST-MODIFIED:20240513T125622Z
UID:24717-1716033600-1716048000@folkmusik.nu
SUMMARY:Spelträff på Löts gårdsmejeri
DESCRIPTION:Ta med ditt instrument och buskspela tills bockfoten kommer fram. Lär dig några nya låtar och lär ut några som du själv kan. Spela i alla krokar på gården och upp mot Getaberget. \nUnder Östgötadagarna har Löts gårdsmejeri öppet hus lördag och söndag. Mejeriet producerar bl a mjölk och ost från gårdens egna getter. För att hitta dit med bil ta av från E4 mot Ulrika vid Vikingstad eller Mantorp. Gå in på mejeriets hemsida för mer info om verksamheten. \nSamarr med Löts gårdsmejeri. \nÖstgötafolk samarbetar med: \n               \n 
URL:https://folkmusik.nu/evenemang/speltraff-pa-lots-gardsmejeri/
LOCATION:Löts gårdsmejeri\, Löt Ryttargården\, Gammalkil\, Sverige
CATEGORIES:Egna evenemang
ATTACH;FMTTYPE=image/png:https://folkmusik.nu/wp-content/uploads/2024/05/Get_lot.png
END:VEVENT
BEGIN:VEVENT
DTSTART;TZID=Europe/Stockholm:20240525T120000
DTEND;TZID=Europe/Stockholm:20240525T160000
DTSTAMP:20260425T060347
CREATED:20240513T134244Z
LAST-MODIFIED:20240513T134502Z
UID:24728-1716638400-1716652800@folkmusik.nu
SUMMARY:Spelträff i Folkträdgården
DESCRIPTION:Dyk in i en dag fylld med musik\, odling och visionära samtal i stadsodlingen Folkträdgården. Få insikter i cirkulärt jordbruk och hur mat kan produceras på nyttiga sätt. Njut av god mat och sällskap. Delta i dans och folkmusikjam. Ta med ditt instrument\, eller kom som du är\, och njut av folkmusikens glädje. Barn är extra välkomna för en familjevänlig dag. \nSpelträffen är en del av Linköpings kulturdagar. Samarr med Folkträdgården. \nÖstgötafolk samarbetar med: \n             
URL:https://folkmusik.nu/evenemang/speltraff-i-folktradgarden/
LOCATION:Folkträdgården\, Kunskapslänken\, Linköping\, Sverige
CATEGORIES:Egna evenemang
END:VEVENT
END:VCALENDAR