BEGIN:VCALENDAR
VERSION:2.0
PRODID:-//Östgötafolk - ECPv6.15.20//NONSGML v1.0//EN
CALSCALE:GREGORIAN
METHOD:PUBLISH
X-WR-CALNAME:Östgötafolk
X-ORIGINAL-URL:https://folkmusik.nu
X-WR-CALDESC:Händelser för Östgötafolk
REFRESH-INTERVAL;VALUE=DURATION:PT1H
X-Robots-Tag:noindex
X-PUBLISHED-TTL:PT1H
BEGIN:VTIMEZONE
TZID:Europe/Stockholm
BEGIN:DAYLIGHT
TZOFFSETFROM:+0100
TZOFFSETTO:+0200
TZNAME:CEST
DTSTART:20230326T010000
END:DAYLIGHT
BEGIN:STANDARD
TZOFFSETFROM:+0200
TZOFFSETTO:+0100
TZNAME:CET
DTSTART:20231029T010000
END:STANDARD
BEGIN:DAYLIGHT
TZOFFSETFROM:+0100
TZOFFSETTO:+0200
TZNAME:CEST
DTSTART:20240331T010000
END:DAYLIGHT
BEGIN:STANDARD
TZOFFSETFROM:+0200
TZOFFSETTO:+0100
TZNAME:CET
DTSTART:20241027T010000
END:STANDARD
BEGIN:DAYLIGHT
TZOFFSETFROM:+0100
TZOFFSETTO:+0200
TZNAME:CEST
DTSTART:20250330T010000
END:DAYLIGHT
BEGIN:STANDARD
TZOFFSETFROM:+0200
TZOFFSETTO:+0100
TZNAME:CET
DTSTART:20251026T010000
END:STANDARD
END:VTIMEZONE
BEGIN:VEVENT
DTSTART;TZID=Europe/Stockholm:20241123T120000
DTEND;TZID=Europe/Stockholm:20241123T235900
DTSTAMP:20260424T213654
CREATED:20240826T080856Z
LAST-MODIFIED:20241118T140151Z
UID:24771-1732363200-1732406340@folkmusik.nu
SUMMARY:Linköpingsstämman på Landerydgården
DESCRIPTION:Linköpingsstämman 2024\nGäster: Pers Alexander Olsson och Olof Kennemark\nKonsert – Låtkurs – Danskurs – Spel till dans\nFoto: Rickard Lindvall\, Mikael Olsson\n\nInformation om spelmän och danskurs här\nStämmans allspelslåtar (allspel 12.00) här\n\nSamarrangemang med Östergötlands spelmansförbund. \nI samarbete med  och    
URL:https://folkmusik.nu/evenemang/linkopingsstamman-pa-landerydgarden-2/
LOCATION:Landerydgården\, Landerydgården\, Linköping\, Sverige
CATEGORIES:Egna evenemang
END:VEVENT
END:VCALENDAR