BEGIN:VCALENDAR
VERSION:2.0
PRODID:-//Östgötafolk - ECPv6.15.20//NONSGML v1.0//EN
CALSCALE:GREGORIAN
METHOD:PUBLISH
X-ORIGINAL-URL:https://folkmusik.nu
X-WR-CALDESC:Händelser för Östgötafolk
REFRESH-INTERVAL;VALUE=DURATION:PT1H
X-Robots-Tag:noindex
X-PUBLISHED-TTL:PT1H
BEGIN:VTIMEZONE
TZID:Europe/Stockholm
BEGIN:DAYLIGHT
TZOFFSETFROM:+0100
TZOFFSETTO:+0200
TZNAME:CEST
DTSTART:20220327T010000
END:DAYLIGHT
BEGIN:STANDARD
TZOFFSETFROM:+0200
TZOFFSETTO:+0100
TZNAME:CET
DTSTART:20221030T010000
END:STANDARD
BEGIN:DAYLIGHT
TZOFFSETFROM:+0100
TZOFFSETTO:+0200
TZNAME:CEST
DTSTART:20230326T010000
END:DAYLIGHT
BEGIN:STANDARD
TZOFFSETFROM:+0200
TZOFFSETTO:+0100
TZNAME:CET
DTSTART:20231029T010000
END:STANDARD
BEGIN:DAYLIGHT
TZOFFSETFROM:+0100
TZOFFSETTO:+0200
TZNAME:CEST
DTSTART:20240331T010000
END:DAYLIGHT
BEGIN:STANDARD
TZOFFSETFROM:+0200
TZOFFSETTO:+0100
TZNAME:CET
DTSTART:20241027T010000
END:STANDARD
END:VTIMEZONE
BEGIN:VEVENT
DTSTART;TZID=Europe/Stockholm:20230324T190000
DTEND;TZID=Europe/Stockholm:20230324T210000
DTSTAMP:20260426T033903
CREATED:20230119T121949Z
LAST-MODIFIED:20230320T081235Z
UID:19380-1679684400-1679691600@folkmusik.nu
SUMMARY:Konsert med Quilty i Baptistkyrkan
DESCRIPTION:Quilty har genom åren etablerat sig som Sveriges främsta företrädare för irländsk folkmusik. Under 2023 fyller bandet 30 år. Det firas genom att bjuda in den irländske folkmusiklegendaren Andy Irvine\, som är en av Irlands mest hyllade folk- och världsmusikikoner och en förebild och inspirationskälla för Quilty. Bandet består av Dag Westling\, Gideon Andersson\, Esbjörn Hazelius och Staffan Lindfors. \nVi räknar med publiktryck så kom i tid för att undvika köer. Vi öppnar dörrarna kl 18. När ni betalat ert inträde kan ni t ex ta en fika på Babettes i samma hus. Babettes serverar även fika i pausen men endast mot förbeställning. Fikabiljett kan köpas hos dem. \nInträde på denna konsert: 250 kr ordinarie\, 200 kr för medlemmar\, studenter och pensionärer\, 150 kr för medlem som är student eller pensionär \nObservera att konserten äger rum på en fredag.
URL:https://folkmusik.nu/evenemang/konsert-med-quilty-i-baptistkyrkan/
LOCATION:Baptistkyrkan\, Klostergatan 46\, Linköping
CATEGORIES:Egna evenemang
END:VEVENT
END:VCALENDAR