BEGIN:VCALENDAR
VERSION:2.0
PRODID:-//Östgötafolk - ECPv6.15.20//NONSGML v1.0//EN
CALSCALE:GREGORIAN
METHOD:PUBLISH
X-ORIGINAL-URL:https://folkmusik.nu
X-WR-CALDESC:Händelser för Östgötafolk
REFRESH-INTERVAL;VALUE=DURATION:PT1H
X-Robots-Tag:noindex
X-PUBLISHED-TTL:PT1H
BEGIN:VTIMEZONE
TZID:Europe/Stockholm
BEGIN:DAYLIGHT
TZOFFSETFROM:+0100
TZOFFSETTO:+0200
TZNAME:CEST
DTSTART:20240331T010000
END:DAYLIGHT
BEGIN:STANDARD
TZOFFSETFROM:+0200
TZOFFSETTO:+0100
TZNAME:CET
DTSTART:20241027T010000
END:STANDARD
BEGIN:DAYLIGHT
TZOFFSETFROM:+0100
TZOFFSETTO:+0200
TZNAME:CEST
DTSTART:20250330T010000
END:DAYLIGHT
BEGIN:STANDARD
TZOFFSETFROM:+0200
TZOFFSETTO:+0100
TZNAME:CET
DTSTART:20251026T010000
END:STANDARD
BEGIN:DAYLIGHT
TZOFFSETFROM:+0100
TZOFFSETTO:+0200
TZNAME:CEST
DTSTART:20260329T010000
END:DAYLIGHT
BEGIN:STANDARD
TZOFFSETFROM:+0200
TZOFFSETTO:+0100
TZNAME:CET
DTSTART:20261025T010000
END:STANDARD
END:VTIMEZONE
BEGIN:VEVENT
DTSTART;TZID=Europe/Stockholm:20250329T140000
DTEND;TZID=Europe/Stockholm:20250329T160000
DTSTAMP:20260424T174518
CREATED:20250315T130204Z
LAST-MODIFIED:20250315T130344Z
UID:24860-1743256800-1743264000@folkmusik.nu
SUMMARY:Kurser på Östgötastämman i Rimforsa
DESCRIPTION:Vi håller tre kurser på Östgötastämman: \n1) Låtkurs med folkmusikduon Vågspel. Kristin Kennemark och Alice Klint lär ut västgötalåtar och fokuserar på samspel och sväng. \n2) Låtkurs för nybörjare och ovana med Ebba Hellsten. \n3)Folkdanskurs med Linnea Lenz. Kurs i dansteknik. Finslipa din dans med hjälp av olika tricks och knep så att det blir lättare och därmed ännu roligare att dansa. Vi jobbar med tekniker för både vår egen kropp och parvis. Tekniker som alla kan ha nytta av oavsett tidigare erfarenhet. \n  \nTid 14.00-ca 15.45 i Brokyrkan\, Rimforsa. Kursavgift 200 kr. Anmälan till anders.landelius@bilda.nu. Om du vill delta på spelmansstämman tillkommer inträdesavgift som betalas på plats. \nKurserna hålls i samarbete med   
URL:https://folkmusik.nu/evenemang/kurser-pa-ostgotastamman-i-rimforsa/
LOCATION:Brokyrkan\, Rimforsa\, Industrivägen 3\, Rimforsa\, Sweden
CATEGORIES:Egna evenemang
END:VEVENT
BEGIN:VEVENT
DTSTART;TZID=Europe/Stockholm:20250329T140000
DTEND;TZID=Europe/Stockholm:20250329T220000
DTSTAMP:20260424T174518
CREATED:20250108T121920Z
LAST-MODIFIED:20250315T125533Z
UID:24838-1743256800-1743285600@folkmusik.nu
SUMMARY:Östgötastämman i Rimforsa
DESCRIPTION:  \nFör tredje året i rad ordnar Östgötafolk en vandrande spelmansstämma. 2023 var vi i Motala\, 2024 i Söderköping\, 2025 är vi i Brokyrkan i Rimforsa. Gästande spelmän är duon Vågspel med Kristin Kennemark och Alice Klint. \nProgram \n14.00 Kurser \n16.00 Allspel (Noter till allspelslåtarna finns längre ner på sidan.) \n16.30 Dans till lokala spelmän och spellista \n18.00 Årsmöte i Östgötafolk. För dem som inte deltar i årsmötet finns möjlighet till  fika\, buskspel eller annat. \n20.00 Dansant konsert med Vågspel \nI samarbete med  och      \n  \nFika serveras på stämman. I Rimforsa finns även två pizzerior/restauranger och en Icabutik. \nInträde: 160 kr ordiinarie\, 120 kr för medlemmar/studenter/pensionärer\, 90 kr för medlem som är student eller pensionär. \n \n  \nMer om Vågspel \nMed rötterna stadigt i den västgötska låtskatten spelar Vågspel både egenskrivna låtar och trad. Med två fioler får duon musiken att fara som en ångvält genom landskapet där dåtid och nutid möts. Alice Klint och Kristin Kennemark spelar uppkäftigt och lyriskt på samma gång\, med ett samspel och sväng som kan sätta vad som helst i rörelse. I kompositionerna kombineras djärva tongångar med eggande rytmer. Låtarna har en egen färg och speglar ofta sin samtid – både dess sorger och lyckorus. Vänskapen musikerna emellan är grunden i det sammansvetsade stämspelet. Tillsammans tar de sig an de stora känslorna!\nDuon är högaktuell med sitt tredje album Det finns någonting annat som släpps i mitten av april. \nAlice Klint – fiol\nKristin Kennemark – fiol \nDebutalbumet Vågspel släpptes 2017 och året därpå korades duon till Årets nykomling på Folk- och Världsmusikgalan i Norrköping. Våren 2022 utsågs Vågspel till Ensemble in Residence hos Musik i Syd. Deras andra album I nöd och lust utsågs till Årets Trad 2022 av Lira Musikmagasin och nominerades till Grammis i Årets Folkmusik 2023. Nu är de aktuella med sitt tredje album Det finns någonting annat. \n”På uppföljaren ’I nöd och lust’ visar Alice Klint och Kristin Kennemark – duon Vågspel alltså – upp ett vitt spektrum av djupaste musikalitet\, där deras klassiska skolning lyser igenom men grunden och uttrycket vilar säkert i tradmusikens mylla.\nSkivan formligen sprudlar och sprakar av energi\, lust\, driv och dramatik. Skickligt fiolspel och intimt samspel vilket på sina håll förstärks av fotstamp och utrop.” Lira – Årets trad 2022 \nAllspelslåtar\n  \n \n \n \n \nHär dansar vi på bredaste golv å här har vi dansat länge\nHär dansar vi till klockan slår tolv å sen dansar vi åt sängen\n//: Tocka åt dej lite\, sängen är för liten ://\nTocka åt dej å ge mej rum \nI samarbete med  och    
URL:https://folkmusik.nu/evenemang/ostgotastamman-i-rimforsa/
LOCATION:Brokyrkan\, Rimforsa\, Industrivägen 3\, Rimforsa\, Sweden
CATEGORIES:Egna evenemang
ATTACH;FMTTYPE=image/jpeg:https://folkmusik.nu/wp-content/uploads/2019/03/cropped-DSC07040.jpg
END:VEVENT
END:VCALENDAR