BEGIN:VCALENDAR
VERSION:2.0
PRODID:-//Östgötafolk - ECPv6.15.20//NONSGML v1.0//EN
CALSCALE:GREGORIAN
METHOD:PUBLISH
X-ORIGINAL-URL:https://folkmusik.nu
X-WR-CALDESC:Händelser för Östgötafolk
REFRESH-INTERVAL;VALUE=DURATION:PT1H
X-Robots-Tag:noindex
X-PUBLISHED-TTL:PT1H
BEGIN:VTIMEZONE
TZID:Europe/Stockholm
BEGIN:DAYLIGHT
TZOFFSETFROM:+0100
TZOFFSETTO:+0200
TZNAME:CEST
DTSTART:20240331T010000
END:DAYLIGHT
BEGIN:STANDARD
TZOFFSETFROM:+0200
TZOFFSETTO:+0100
TZNAME:CET
DTSTART:20241027T010000
END:STANDARD
BEGIN:DAYLIGHT
TZOFFSETFROM:+0100
TZOFFSETTO:+0200
TZNAME:CEST
DTSTART:20250330T010000
END:DAYLIGHT
BEGIN:STANDARD
TZOFFSETFROM:+0200
TZOFFSETTO:+0100
TZNAME:CET
DTSTART:20251026T010000
END:STANDARD
BEGIN:DAYLIGHT
TZOFFSETFROM:+0100
TZOFFSETTO:+0200
TZNAME:CEST
DTSTART:20260329T010000
END:DAYLIGHT
BEGIN:STANDARD
TZOFFSETFROM:+0200
TZOFFSETTO:+0100
TZNAME:CET
DTSTART:20261025T010000
END:STANDARD
END:VTIMEZONE
BEGIN:VEVENT
DTSTART;TZID=Europe/Stockholm:20251010T170000
DTEND;TZID=Europe/Stockholm:20251011T233000
DTSTAMP:20260424T073330
CREATED:20250827T112434Z
LAST-MODIFIED:20250827T213251Z
UID:25316-1760115600-1760225400@folkmusik.nu
SUMMARY:Norrköpings folkmusikfestival
DESCRIPTION:Festivalen tar ett kliv i en ny riktning – med ett uppdaterat format och nya personer i arrangörsgruppen. Det här är början på något vi länge velat förverkliga\, och nu är det dags. Det blir en festival med större fokus på gemenskap och Studentspelmanslags-VM\, fortfarande i Norrköpings vackra industrikvarter. Nytt för i år är att VM kommer att ske den 11:e oktober\, alltså på lördagen. Vi hoppas detta kan bidra till större inkludering och mer kalas! \nMer info kommer snart på festival.folkmusik.nu \nI samarbete med \n            \n 
URL:https://folkmusik.nu/evenemang/norrkopings-folkmusikfestival-4/
CATEGORIES:Egna evenemang
ATTACH;FMTTYPE=image/jpeg:https://folkmusik.nu/wp-content/uploads/2019/03/DSC07455.jpg
END:VEVENT
END:VCALENDAR