BEGIN:VCALENDAR
VERSION:2.0
PRODID:-//Östgötafolk - ECPv6.15.20//NONSGML v1.0//EN
CALSCALE:GREGORIAN
METHOD:PUBLISH
X-ORIGINAL-URL:https://folkmusik.nu
X-WR-CALDESC:Händelser för Östgötafolk
REFRESH-INTERVAL;VALUE=DURATION:PT1H
X-Robots-Tag:noindex
X-PUBLISHED-TTL:PT1H
BEGIN:VTIMEZONE
TZID:Europe/Stockholm
BEGIN:DAYLIGHT
TZOFFSETFROM:+0100
TZOFFSETTO:+0200
TZNAME:CEST
DTSTART:20240331T010000
END:DAYLIGHT
BEGIN:STANDARD
TZOFFSETFROM:+0200
TZOFFSETTO:+0100
TZNAME:CET
DTSTART:20241027T010000
END:STANDARD
BEGIN:DAYLIGHT
TZOFFSETFROM:+0100
TZOFFSETTO:+0200
TZNAME:CEST
DTSTART:20250330T010000
END:DAYLIGHT
BEGIN:STANDARD
TZOFFSETFROM:+0200
TZOFFSETTO:+0100
TZNAME:CET
DTSTART:20251026T010000
END:STANDARD
BEGIN:DAYLIGHT
TZOFFSETFROM:+0100
TZOFFSETTO:+0200
TZNAME:CEST
DTSTART:20260329T010000
END:DAYLIGHT
BEGIN:STANDARD
TZOFFSETFROM:+0200
TZOFFSETTO:+0100
TZNAME:CET
DTSTART:20261025T010000
END:STANDARD
END:VTIMEZONE
BEGIN:VEVENT
DTSTART;TZID=Europe/Stockholm:20251122T120000
DTEND;TZID=Europe/Stockholm:20251122T233000
DTSTAMP:20260424T073329
CREATED:20251027T103955Z
LAST-MODIFIED:20251027T103955Z
UID:27047-1763812800-1763854200@folkmusik.nu
SUMMARY:Linköpingsstämman på Landerydgården
DESCRIPTION:Dans\, konsert och spel på Linköpingsstämman \nSpelstugor med Isabell Svärdmalm och Christer Samuelsson \nGÄSTARTISTER:\nO’tôrgs-Kaisa Abrahamsson\nRiksspelman med Zornmärket i guld\, frilansade kursledare\, dansspelman\, kompositör och spelmanslagsledare förNordanstigs spelmanslag. Att bevara och föra hälsingetraditionen vidare är målet med hennes musicerande.\nStig och Helen Eriksson\, Norrköping\nTvå erfarna och välmeriterade pedagoger som håller danskurs i hälsingedanser. De har bland annat vunnitHälsingehambon och erhållit Stort Silver  i polskedans och är medlemmar i folkmusik- och dansgruppen Klintetten. \nPRELIMINÄRT PROGRAM \nStora salen:\n12.00-12.45 Allspel med Isabell Svärdmalm\n13.00-14.30\, 15.00-16.30 Låtstuga med O´torgs Kaisa\n16.30-17.30  Låtstuga Larry Lundgren\, nyckelharpa \nLilla danssalen: \n13.00-14.15 Spelstuga nya låtar med Christer\n14.40-15.50 Spelstugor nya låtar med Isabell\n16.00-17.30 danskurs Hälsingedanser\, Stig & Helen \nKonsert i stora salen: \n18.00-19.00 O´torgs Kaisa konsert \nDansspel:\n19.00-19.45  Strängar & Rör med Ebba Hellsten \n19.45-20.30 O´torgs Kaisa och Per Järnberg \n20.30-21.00 Stefan\, Kerstin\, Kristina och Christer \n21.00 – 21.30 Allspel till dans \n21.30 – 23.30 spellista \nLilla salen\, en trappa upp: \nBuskspel 18.00-23.00 \nMer info: linkopingsstamman.se \nARR: Östergötlands spelmansförbund\, Östgötafolk\, Folkungagillet \nMed stöd från:
URL:https://folkmusik.nu/evenemang/linkopingsstamman-pa-landerydgarden-3/
LOCATION:Landerydgården\, Landerydgården\, Linköping\, Sverige
CATEGORIES:Egna evenemang
END:VEVENT
END:VCALENDAR