BEGIN:VCALENDAR
VERSION:2.0
PRODID:-//Östgötafolk - ECPv6.15.20//NONSGML v1.0//EN
CALSCALE:GREGORIAN
METHOD:PUBLISH
X-WR-CALNAME:Östgötafolk
X-ORIGINAL-URL:https://folkmusik.nu
X-WR-CALDESC:Händelser för Östgötafolk
REFRESH-INTERVAL;VALUE=DURATION:PT1H
X-Robots-Tag:noindex
X-PUBLISHED-TTL:PT1H
BEGIN:VTIMEZONE
TZID:Europe/Stockholm
BEGIN:DAYLIGHT
TZOFFSETFROM:+0100
TZOFFSETTO:+0200
TZNAME:CEST
DTSTART:20220327T010000
END:DAYLIGHT
BEGIN:STANDARD
TZOFFSETFROM:+0200
TZOFFSETTO:+0100
TZNAME:CET
DTSTART:20221030T010000
END:STANDARD
BEGIN:DAYLIGHT
TZOFFSETFROM:+0100
TZOFFSETTO:+0200
TZNAME:CEST
DTSTART:20230326T010000
END:DAYLIGHT
BEGIN:STANDARD
TZOFFSETFROM:+0200
TZOFFSETTO:+0100
TZNAME:CET
DTSTART:20231029T010000
END:STANDARD
BEGIN:DAYLIGHT
TZOFFSETFROM:+0100
TZOFFSETTO:+0200
TZNAME:CEST
DTSTART:20240331T010000
END:DAYLIGHT
BEGIN:STANDARD
TZOFFSETFROM:+0200
TZOFFSETTO:+0100
TZNAME:CET
DTSTART:20241027T010000
END:STANDARD
END:VTIMEZONE
BEGIN:VEVENT
DTSTART;TZID=Europe/Stockholm:20231004T190000
DTEND;TZID=Europe/Stockholm:20231004T220000
DTSTAMP:20260425T182457
CREATED:20230829T210556Z
LAST-MODIFIED:20231003T081112Z
UID:24625-1696446000-1696456800@folkmusik.nu
SUMMARY:Folkmusikkafé på Lunnevads folkhögskola
DESCRIPTION:Onsdagskafé \nLåt- eller danskurs kl 19\, dans till spellista från kl 20. Anmälan till spellistan på info@folkmusik.nu eller telefon/sms 0700160903. Fika serveras. \nFritt inträde
URL:https://folkmusik.nu/evenemang/folkmusikkafe-pa-lunnevads-folkhogskola/
LOCATION:Lunnevads folkhögskola\, Lunnevad\, sjögestad\, Sverige
CATEGORIES:Folkmusikcafé
END:VEVENT
END:VCALENDAR