BEGIN:VCALENDAR
VERSION:2.0
PRODID:-//Östgötafolk - ECPv6.15.20//NONSGML v1.0//EN
CALSCALE:GREGORIAN
METHOD:PUBLISH
X-ORIGINAL-URL:https://folkmusik.nu
X-WR-CALDESC:Händelser för Östgötafolk
REFRESH-INTERVAL;VALUE=DURATION:PT1H
X-Robots-Tag:noindex
X-PUBLISHED-TTL:PT1H
BEGIN:VTIMEZONE
TZID:Europe/Stockholm
BEGIN:DAYLIGHT
TZOFFSETFROM:+0100
TZOFFSETTO:+0200
TZNAME:CEST
DTSTART:20230326T010000
END:DAYLIGHT
BEGIN:STANDARD
TZOFFSETFROM:+0200
TZOFFSETTO:+0100
TZNAME:CET
DTSTART:20231029T010000
END:STANDARD
BEGIN:DAYLIGHT
TZOFFSETFROM:+0100
TZOFFSETTO:+0200
TZNAME:CEST
DTSTART:20240331T010000
END:DAYLIGHT
BEGIN:STANDARD
TZOFFSETFROM:+0200
TZOFFSETTO:+0100
TZNAME:CET
DTSTART:20241027T010000
END:STANDARD
BEGIN:DAYLIGHT
TZOFFSETFROM:+0100
TZOFFSETTO:+0200
TZNAME:CEST
DTSTART:20250330T010000
END:DAYLIGHT
BEGIN:STANDARD
TZOFFSETFROM:+0200
TZOFFSETTO:+0100
TZNAME:CET
DTSTART:20251026T010000
END:STANDARD
END:VTIMEZONE
BEGIN:VEVENT
DTSTART;TZID=Europe/Stockholm:20240405T190000
DTEND;TZID=Europe/Stockholm:20240405T220000
DTSTAMP:20260425T125701
CREATED:20240124T193745Z
LAST-MODIFIED:20240402T135131Z
UID:24669-1712343600-1712354400@folkmusik.nu
SUMMARY:Folkmusikkafé på Hemslöjdsgården
DESCRIPTION:Kl 19: Visstuga med Gunnar & Karen\, spelstuga. \nKl 20: Dans till spellista. \nAnmälan till spellistan på info@folkmusik.nu eller telefon/sms 0700 160903. \nFika serveras till självkostnadspris. \nFritt inträde. \nI samarbete med 
URL:https://folkmusik.nu/evenemang/24669/
LOCATION:Hemslöjdsgården\, Storgatan 41\, Linköping\, Sverige
CATEGORIES:Folkmusikcafé
END:VEVENT
END:VCALENDAR