BEGIN:VCALENDAR
VERSION:2.0
PRODID:-//Östgötafolk - ECPv6.15.20//NONSGML v1.0//EN
CALSCALE:GREGORIAN
METHOD:PUBLISH
X-ORIGINAL-URL:https://folkmusik.nu
X-WR-CALDESC:Händelser för Östgötafolk
REFRESH-INTERVAL;VALUE=DURATION:PT1H
X-Robots-Tag:noindex
X-PUBLISHED-TTL:PT1H
BEGIN:VTIMEZONE
TZID:Europe/Stockholm
BEGIN:DAYLIGHT
TZOFFSETFROM:+0100
TZOFFSETTO:+0200
TZNAME:CEST
DTSTART:20250330T010000
END:DAYLIGHT
BEGIN:STANDARD
TZOFFSETFROM:+0200
TZOFFSETTO:+0100
TZNAME:CET
DTSTART:20251026T010000
END:STANDARD
BEGIN:DAYLIGHT
TZOFFSETFROM:+0100
TZOFFSETTO:+0200
TZNAME:CEST
DTSTART:20260329T010000
END:DAYLIGHT
BEGIN:STANDARD
TZOFFSETFROM:+0200
TZOFFSETTO:+0100
TZNAME:CET
DTSTART:20261025T010000
END:STANDARD
BEGIN:DAYLIGHT
TZOFFSETFROM:+0100
TZOFFSETTO:+0200
TZNAME:CEST
DTSTART:20270328T010000
END:DAYLIGHT
BEGIN:STANDARD
TZOFFSETFROM:+0200
TZOFFSETTO:+0100
TZNAME:CET
DTSTART:20271031T010000
END:STANDARD
END:VTIMEZONE
BEGIN:VEVENT
DTSTART;TZID=Europe/Stockholm:20260508T190000
DTEND;TZID=Europe/Stockholm:20260508T220000
DTSTAMP:20260423T232217
CREATED:20260118T131109Z
LAST-MODIFIED:20260303T155453Z
UID:28349-1778266800-1778277600@folkmusik.nu
SUMMARY:Folkmusikkafé på Hemslöjdsgården
DESCRIPTION:Kom och fika\, dansa\, sjung eller lyssna! \nVIs- och spelstuga kl 19. Dans till spellista från kl 20. \nAnmälan till spellistan på info@folkmusik.nu eller telefon/sms 0700 160903. \nFika serveras till självkostnadspris. \nFritt inträde men bidrag mottages tacksamt. \nI samarbete med  och    
URL:https://folkmusik.nu/evenemang/folkmusikkafe-pa-hemslojdsgarden-24/
LOCATION:Hemslöjdsgården\, Storgatan 41\, Linköping\, Sverige
CATEGORIES:Folkmusikcafé
ATTACH;FMTTYPE=image/jpeg:https://folkmusik.nu/wp-content/uploads/2024/09/10409310_1593103444242270_3754763835514694119_n.jpg
END:VEVENT
BEGIN:VEVENT
DTSTART;TZID=Europe/Stockholm:20260509T140000
DTEND;TZID=Europe/Stockholm:20260509T200000
DTSTAMP:20260423T232217
CREATED:20260413T090749Z
LAST-MODIFIED:20260413T090749Z
UID:30592-1778335200-1778356800@folkmusik.nu
SUMMARY:Spelträff på Löts gårdsmejeri
DESCRIPTION:Mer info kommer snart
URL:https://folkmusik.nu/evenemang/speltraff-pa-lots-gardsmejeri-2/
LOCATION:Löts gårdsmejeri\, Löt Ryttargården\, Gammalkil\, Sverige
CATEGORIES:Egna evenemang
END:VEVENT
END:VCALENDAR