BEGIN:VCALENDAR
VERSION:2.0
PRODID:-//Östgötafolk - ECPv6.15.20//NONSGML v1.0//EN
CALSCALE:GREGORIAN
METHOD:PUBLISH
X-ORIGINAL-URL:https://folkmusik.nu
X-WR-CALDESC:Händelser för Östgötafolk
REFRESH-INTERVAL;VALUE=DURATION:PT1H
X-Robots-Tag:noindex
X-PUBLISHED-TTL:PT1H
BEGIN:VTIMEZONE
TZID:Europe/Stockholm
BEGIN:DAYLIGHT
TZOFFSETFROM:+0100
TZOFFSETTO:+0200
TZNAME:CEST
DTSTART:20180325T010000
END:DAYLIGHT
BEGIN:STANDARD
TZOFFSETFROM:+0200
TZOFFSETTO:+0100
TZNAME:CET
DTSTART:20181028T010000
END:STANDARD
BEGIN:DAYLIGHT
TZOFFSETFROM:+0100
TZOFFSETTO:+0200
TZNAME:CEST
DTSTART:20190331T010000
END:DAYLIGHT
BEGIN:STANDARD
TZOFFSETFROM:+0200
TZOFFSETTO:+0100
TZNAME:CET
DTSTART:20191027T010000
END:STANDARD
BEGIN:DAYLIGHT
TZOFFSETFROM:+0100
TZOFFSETTO:+0200
TZNAME:CEST
DTSTART:20200329T010000
END:DAYLIGHT
BEGIN:STANDARD
TZOFFSETFROM:+0200
TZOFFSETTO:+0100
TZNAME:CET
DTSTART:20201025T010000
END:STANDARD
BEGIN:DAYLIGHT
TZOFFSETFROM:+0100
TZOFFSETTO:+0200
TZNAME:CEST
DTSTART:20210328T010000
END:DAYLIGHT
BEGIN:STANDARD
TZOFFSETFROM:+0200
TZOFFSETTO:+0100
TZNAME:CET
DTSTART:20211031T010000
END:STANDARD
END:VTIMEZONE
BEGIN:VEVENT
DTSTART;TZID=Europe/Stockholm:20200208T180000
DTEND;TZID=Europe/Stockholm:20200208T200000
DTSTAMP:20260424T094342
CREATED:20200131T092448Z
LAST-MODIFIED:20200131T092448Z
UID:768-1581184800-1581192000@folkmusik.nu
SUMMARY:EVENEMANGSTIPS: Hoven Droven i Ryttargårdskyrkan
DESCRIPTION:Den svenska folkrockens okrönta kungar Hoven Droven spelar tillsammans med Linköpings ungdomsorkestrar i Ryttargårdskyrkan. \nBiljettinfo: https://sites.google.com/site/luolkpg/hd \n 
URL:https://folkmusik.nu/evenemang/evenemangstips-hoven-droven-i-ryttargardskyrkan/
LOCATION:Ryttargårdskyrkan\, Djurgårdsgatan 97\, Linköping\, Sverige
END:VEVENT
BEGIN:VEVENT
DTSTART;TZID=Europe/Stockholm:20200206T203000
DTEND;TZID=Europe/Stockholm:20200206T230000
DTSTAMP:20260424T094342
CREATED:20200130T193017Z
LAST-MODIFIED:20200130T201752Z
UID:734-1581021000-1581030000@folkmusik.nu
SUMMARY:Folkmusikkafé på Björkö
DESCRIPTION:Vårens första folkmusikkafé torsdag 6 februari inleds med en konsert med Lunnefolk. Folkmusiklinjen från Lunnevads folkhögskola bjuder upp till dans med låtar från världens olika hörn. Med fioler\, klarinett och slagverk spelas riviga låtar och svängiga melodier samt en och annan lugn vals! \nEnklare fika serveras. \nVis- och spelstuga kl 19.30. \nKonsert med Lunnefolk kl 20. \nEfter konserten dans till spellista. Anmälan till spellistan på info@folkmusik.nu.
URL:https://folkmusik.nu/evenemang/folkmusikkafe-pa-bjorko/
LOCATION:Björkö fria gymnasium\, Björkö fria gymnasium\, Linköping\, Sverige
END:VEVENT
BEGIN:VEVENT
DTSTART;TZID=Europe/Stockholm:20191212T203000
DTEND;TZID=Europe/Stockholm:20191213T000000
DTSTAMP:20260424T094342
CREATED:20190903T190613Z
LAST-MODIFIED:20190903T192329Z
UID:503-1576182600-1576195200@folkmusik.nu
SUMMARY:Folkmusikkafé på Björkö gymnasium
DESCRIPTION:Årets sista kafé blir även det på en torsdag och lite senare än vanligt. Vis- och spelstuga 19.30\, dans till spellista 20.30. Anmälan till spellistan på info@folkmusik.nu
URL:https://folkmusik.nu/evenemang/folkmusikkafe-pa-bjorko-gymnasium/
LOCATION:Björkö fria gymnasium\, Björkö fria gymnasium\, Linköping\, Sverige
CATEGORIES:Folkmusikcafé
END:VEVENT
BEGIN:VEVENT
DTSTART;TZID=Europe/Stockholm:20191130T200000
DTEND;TZID=Europe/Stockholm:20191201T000000
DTSTAMP:20260424T094342
CREATED:20190903T190031Z
LAST-MODIFIED:20190903T190031Z
UID:499-1575144000-1575158400@folkmusik.nu
SUMMARY:D'amore: Konsert & dans med Pelle Björnlert & vänner
DESCRIPTION:“Traditionen att ge bort låtar tycker jag är fin. Många av mina kompositioner är dedicerade till någon peson eller plats och alla är gjorda med kärlek. Jag har mest gjort danslåtar och högtidsmusik. \nUnder årets Korröfestival släpptes den nya skivan och vi är nu redo att möta publiken. Vi bjuder på ett varierat konsertprogram med alltifrån solo till kvintett. Vid dansen blandas mina egna kompositioner med traditionella låtar” \nMusiker: Pelle Björnlert\, Johan Hedin\, Anders Löfberg\, Erik Pekkari\, Nora Roll \nInträde 150 kr. För medlemmar\, studenter och pensionärer 120 kr. För medlem som är student eller pensionär 90 kr. \nOBS: FiL:s evenemang är numera kontantfria. Betala med Swish eller kort.
URL:https://folkmusik.nu/evenemang/damore-konsert-dans-med-pelle-bjornlert-vanner/
LOCATION:Landerydgården\, Landerydgården\, Linköping\, Sverige
CATEGORIES:Egna evenemang
END:VEVENT
BEGIN:VEVENT
DTSTART;TZID=Europe/Stockholm:20191130T133000
DTEND;TZID=Europe/Stockholm:20191201T150000
DTSTAMP:20260424T094342
CREATED:20191105T082745Z
LAST-MODIFIED:20191125T230329Z
UID:567-1575120600-1575212400@folkmusik.nu
SUMMARY:Tips: Kurs i slängpolska i samband med Pelle Björnlerts konsert
DESCRIPTION:När Pelle Björnlert och Johan Hedin spelar brukar det bli rätt mycket slängpolska. Passa på att lära dig dansa slängpolska\, eller lär dig dansa ännu bättre om du redan kan grunderna. Folkungagillet ordnar kurser i slängpolska på fläck från 1700-talet på Landerydgården. \nLördag 30 november 12.30-15.30\, söndag 1 december 11-14. \nBåda dagarna finns två grupper\, för nybörjare och fortsättning. \nInstruktörer: Karin Hansen\, Ellge Jakobsson\, Ingegerd Vejvi\, Björn Fredriksson \nKursspelmän: Katarina och Eric Hammarström\, Christer och Kristina Samuelsson \nKursavgift 300 kr per dag. Anmälan till lena.lassebro@gmail.com\, tel 0727-330777. FÖRLÄNGD ANMÄLNINGSTID: senast 29 november.
URL:https://folkmusik.nu/evenemang/tips-kurs-i-slangpolska-i-samband-med-pelle-bjornlerts-konsert/
LOCATION:Landerydgården\, Landerydgården\, Linköping\, Sverige
END:VEVENT
BEGIN:VEVENT
DTSTART;TZID=Europe/Stockholm:20191106T200000
DTEND;TZID=Europe/Stockholm:20191107T000000
DTSTAMP:20260424T094342
CREATED:20190903T184822Z
LAST-MODIFIED:20190903T192422Z
UID:494-1573070400-1573084800@folkmusik.nu
SUMMARY:Folkmusikpub på Palatset
DESCRIPTION:Folkmusikjam kl 19\, dans till spellista kl 20. Anmälan till spellistan på info@folkmusik.nu
URL:https://folkmusik.nu/evenemang/folkmusikpub-pa-palatset/
LOCATION:Palatset\, Drottninggatan 23\, Linköping\, Sverige
CATEGORIES:Folkmusikcafé
END:VEVENT
BEGIN:VEVENT
DTSTART;TZID=Europe/Stockholm:20191013T160000
DTEND;TZID=Europe/Stockholm:20191013T200000
DTSTAMP:20260424T094342
CREATED:20190903T184308Z
LAST-MODIFIED:20190903T184900Z
UID:492-1570982400-1570996800@folkmusik.nu
SUMMARY:Folkmusikkafé för små och stora i Linghem
DESCRIPTION:Välkommen till en danskväll med plats för batnvagnar\, barnlek och buskspel! Kaffe\, te\, saft\, korv och popcorn till försäljning. Dans till spellista. Anmälan till spellistan: jenniethander@gmail.com
URL:https://folkmusik.nu/evenemang/folkmusikkafe-for-sma-och-stora-i-linghem/
LOCATION:Åkerbogården\, Åkerbogården\, Linghem\, Sverige
CATEGORIES:Folkmusikcafé
END:VEVENT
BEGIN:VEVENT
DTSTART;TZID=Europe/Stockholm:20191004T200000
DTEND;TZID=Europe/Stockholm:20191006T030000
DTSTAMP:20260424T094342
CREATED:20190903T183814Z
LAST-MODIFIED:20190903T184940Z
UID:489-1570219200-1570330800@folkmusik.nu
SUMMARY:Norrköpings folkmusikfestival 4-5 oktober
DESCRIPTION:Nytt namn\, ny stad – samma festival! Tillbaka på sin gamla vanliga helg i oktober och med samma vimmel av härliga människor\, studentspelmanslags-VM\, pulserande dansgolv och vassa artister. \nFredag 18-01\, lördag 10-01. \nLokaler: Flygeln\, Värmekyrkan\, Crescendo och Hörsalen i centrala Norrköping
URL:https://folkmusik.nu/evenemang/norrkopings-folkmusikfestival-4-5-oktober/
CATEGORIES:Egna evenemang
END:VEVENT
BEGIN:VEVENT
DTSTART;TZID=Europe/Stockholm:20191003T200000
DTEND;TZID=Europe/Stockholm:20191004T000000
DTSTAMP:20260424T094342
CREATED:20190903T182013Z
LAST-MODIFIED:20190904T062746Z
UID:484-1570132800-1570147200@folkmusik.nu
SUMMARY:Folkmusikjam och pub på Broadway i Norrköping
DESCRIPTION:Kom och ladda upp inför Norrköpings folkmusikfestival! Östergötlands spelmansförbund bjuder in till folkmuskpub/jam på klassiska Broadway\, Bråddgatan 26 i Norrköping
URL:https://folkmusik.nu/evenemang/folkmusikjam-och-pub-pa-broadway-i-norrkoping/
LOCATION:Broadway café och kvarterskrog\, Bråddgatan 26\, Norrköping\, Sverige
CATEGORIES:Evenemangstips
END:VEVENT
BEGIN:VEVENT
DTSTART;TZID=Europe/Stockholm:20190907T123000
DTEND;TZID=Europe/Stockholm:20190908T190000
DTSTAMP:20260424T094342
CREATED:20190903T192138Z
LAST-MODIFIED:20190903T192138Z
UID:506-1567859400-1567969200@folkmusik.nu
SUMMARY:Slakastämman
DESCRIPTION:Slaka kulturdagar med spelmansstämma i Slaka hembygdsgård och Slaka kyrka. \nLördag kl 10.30-17\, söndag kl 12-16. Mest musik på lördagen\, mest aktiviteter och hantverk för barn och vuxna på söndagen. \nSpelstuga lörd kl 13. Konsert Södling sessions (Ulrika Gunnarsson\, Tina Quartey\, Mia Marin) lörd kl 15.30
URL:https://folkmusik.nu/evenemang/slakastamman/
LOCATION:Slaka hembygdsgård\, Slaka\, Sverige
CATEGORIES:Evenemangstips
END:VEVENT
BEGIN:VEVENT
DTSTART;TZID=Europe/Stockholm:20190905T210000
DTEND;TZID=Europe/Stockholm:20190906T010000
DTSTAMP:20260424T094342
CREATED:20190903T180400Z
LAST-MODIFIED:20190903T190807Z
UID:482-1567717200-1567731600@folkmusik.nu
SUMMARY:Folkmusikkafé på Björkö gymnasium
DESCRIPTION:Höstens första folkmusikkafé blir en torsdag på Björkö fria gymnasium\, St Larsgatan 26. Vis- och spelstuga kl 19\, dans till spellista kl 20. Anmälan till spellista på info@folkmusik.nu
URL:https://folkmusik.nu/evenemang/folkmusikkafe-pa-bjorko-gymnasium-5-september/
LOCATION:Björkö fria gymnasium\, Björkö fria gymnasium\, Linköping\, Sverige
CATEGORIES:Folkmusikcafé
END:VEVENT
BEGIN:VEVENT
DTSTART;TZID=Europe/Stockholm:20190612T150000
DTEND;TZID=Europe/Stockholm:20190613T010000
DTSTAMP:20260424T094342
CREATED:20190529T191820Z
LAST-MODIFIED:20190529T191820Z
UID:445-1560351600-1560387600@folkmusik.nu
SUMMARY:Evenemangstips: Spel- och dansträff på Vårdnäs hembygdsgård
DESCRIPTION:Välkomna till spel- och dansträff på Vårdnäs vackra hembygdsgård.\nÅk förbi Vårdnäs kyrka nedför backen och tag sedan till höger.\n\nSpelträff från kl 13\nAlla välkomna! Allspel\, buskspel\, samspel\, solospel…. Fiol\, dragspel\, harpa\, munspel….\n\nDans från kl 18 (tillåtet att dansa tidigare också…)\nFilidur\, Strängt Draget m fl spelar\n\nDet finns ingen servering så ta med mat/dryck som önskas under dagen/kvällen!\n(Hembygdsgården kostar att hyra. Vi är tacksamma för bidrag till det)\nArrangör: Strängt Draget\n\nMer info:\nSievert 070-3044722\nBengt 070-3336709
URL:https://folkmusik.nu/evenemang/evenemangstips-spel-och-danstraff-pa-vardnas-hembygdsgard/
LOCATION:Vårdnäs hembygdsgård\, Vårdnäs\, Sverige
END:VEVENT
BEGIN:VEVENT
DTSTART;TZID=Europe/Stockholm:20190605T220000
DTEND;TZID=Europe/Stockholm:20190605T223000
DTSTAMP:20260424T094342
CREATED:20190514T071004Z
LAST-MODIFIED:20190529T191120Z
UID:424-1559772000-1559773800@folkmusik.nu
SUMMARY:Extra årsmöte
DESCRIPTION:Extra årsmöte i FiL på folkmusikkaféet\, innan dansen sätter igång. \nÄrenden: \n\nEkonomisk redovisning för festivalen 2018. (Detta enligt beslut på ordinarie årsmötet\, styrelsen anser dock att inget mer finns att redovisa eftersom festivalekonomin sköttes av RFoD.)\nPlaner för 2019 års festival\nVal av festivalgeneral och festivalkassör för 2019\nFråga om höjning av medlemsavgiften fr o m 2020\nInformationspunkt: höjning av inträdespriserna på konsert- och danskvällar
URL:https://folkmusik.nu/evenemang/extra-arsmote/
LOCATION:Björkö fria gymnasium\, Björkö fria gymnasium\, Linköping\, Sverige
END:VEVENT
BEGIN:VEVENT
DTSTART;TZID=Europe/Stockholm:20190605T210000
DTEND;TZID=Europe/Stockholm:20190605T210000
DTSTAMP:20260424T094342
CREATED:20190329T003304Z
LAST-MODIFIED:20190531T060411Z
UID:271-1559768400-1559768400@folkmusik.nu
SUMMARY:Folkmusikcafé
DESCRIPTION:Spel- och visstuga kl 19 \nExtra årsmöte kl 20 \nDans till spellista från 20.30 \nAnmälan: Anmälan till spellistan på info@folkmusik.nu
URL:https://folkmusik.nu/evenemang/folkmusikcafe-2/
LOCATION:Björkö fria gymnasium\, Björkö fria gymnasium\, Linköping\, Sverige
CATEGORIES:Folkmusikcafé
END:VEVENT
BEGIN:VEVENT
DTSTART;TZID=Europe/Stockholm:20190517T180000
DTEND;TZID=Europe/Stockholm:20190517T220000
DTSTAMP:20260424T094342
CREATED:20190329T003045Z
LAST-MODIFIED:20190404T035149Z
UID:268-1558116000-1558130400@folkmusik.nu
SUMMARY:Folkmusikcafé för småbarnsföräldrar m fl
DESCRIPTION:Välkommen till en ny sorts spel- och danskväll i vår! En folkmusikkväll för både stora och små\, som ligger något tidigare på kvällen och som är lite extra anpassad för barn. Kaffe\, te\, fikabröd\, korv\, festis och popcorn till försäljning. Dans till spellista. Välkommen till en danskväll med plats för både barnvagnar\, barnlek och buskspel!  \nAnmälan: Anmälan till spellista till jenniethander@gmail.com
URL:https://folkmusik.nu/evenemang/folkmusikcafe-for-smabarnsforaldrar-m-fl/
LOCATION:Åkerbogården\, Åkerbogården\, Linghem\, Sverige
CATEGORIES:Folkmusikcafé
END:VEVENT
BEGIN:VEVENT
DTSTART;TZID=Europe/Stockholm:20190511T210000
DTEND;TZID=Europe/Stockholm:20190511T210000
DTSTAMP:20260424T094342
CREATED:20190319T204120Z
LAST-MODIFIED:20190404T042222Z
UID:71-1557608400-1557608400@folkmusik.nu
SUMMARY:Konsert och danskväll\, Olov Johansson
DESCRIPTION:Med sitt briljanta solospel och som medlem i gruppen Väsen har Olov Johansson i hög grad medverkat till den positiva utveckling som nyckelharpsspelet genomgått i Sverige under de senaste 30 åren. Konserten genomförs på Linköpings spelmansstämma. Stämman invigs med allspel 13.00. Spelkurser med Olov Johansson samt danskurser under eftermiddagen. Dans till spellista efter konserten. Mer info på www.linkopingsstamman.se \nPris: 130 kr vuxen\, 90 kr 13-18 år 
URL:https://folkmusik.nu/evenemang/konsert-och-danskvall-olov-johansson/
LOCATION:Landerydgården\, Landerydgården\, Linköping\, Sverige
CATEGORIES:Egna evenemang
END:VEVENT
BEGIN:VEVENT
DTSTART;TZID=Europe/Stockholm:20190509T200000
DTEND;TZID=Europe/Stockholm:20190510T000000
DTSTAMP:20260424T094342
CREATED:20190506T184544Z
LAST-MODIFIED:20190506T184544Z
UID:396-1557432000-1557446400@folkmusik.nu
SUMMARY:Evenemangstips: Folkmusikkafé i Gamleby
DESCRIPTION:Fika\, dans och musik \n18-19: Dansverkstad med Anna Nyander \n19-22: Dans till musik av folkmusklinjen distans m fl. \nVälkomna önskar folkmusiklinjen i Gamleby \nEntré 50 kr\, gratis för folkhögskolans elever. \n  \n 
URL:https://folkmusik.nu/evenemang/evenemangstips-folkmusikkafe-i-gamleby/
LOCATION:Gamleby folkparks skyttepaviljong\, Gamleby\, Sverige
CATEGORIES:Evenemangstips
END:VEVENT
BEGIN:VEVENT
DTSTART;TZID=Europe/Stockholm:20190428T183000
DTEND;TZID=Europe/Stockholm:20190428T183000
DTSTAMP:20260424T094342
CREATED:20190319T203855Z
LAST-MODIFIED:20190404T042234Z
UID:67-1556476200-1556476200@folkmusik.nu
SUMMARY:Evenemangstips: Konsert med Nordic
DESCRIPTION:
URL:https://folkmusik.nu/evenemang/evenemangstips-konsert-med-nordic/
LOCATION:Tannefors kyrka\, Tannefors Kyrka\, Linköping\, Sverige
CATEGORIES:Evenemangstips
END:VEVENT
BEGIN:VEVENT
DTSTART;TZID=Europe/Stockholm:20190422T170000
DTEND;TZID=Europe/Stockholm:20190422T190000
DTSTAMP:20260424T094342
CREATED:20190418T075520Z
LAST-MODIFIED:20190418T075520Z
UID:377-1555952400-1555959600@folkmusik.nu
SUMMARY:Evenemangstips: Hemmahoskonsert
DESCRIPTION:Hemmahoskonsert med Stefan Öberg\, Kerstin Ingels-Öberg\, Christer Samuelsson\, Kristina Samuelsson. Fika serveras. Valfri entré. Arrangörerna vill gärna veta hur många som kommer. Meddela Kerstin 070-5454864 eller obergingels@gmail.com så får du även vägbeskrivning
URL:https://folkmusik.nu/evenemang/evenemangstips-hemmahoskonsert/
LOCATION:Marstad\, Skänninge
END:VEVENT
BEGIN:VEVENT
DTSTART;TZID=Europe/Stockholm:20190403T210000
DTEND;TZID=Europe/Stockholm:20190403T210000
DTSTAMP:20260424T094342
CREATED:20190317T174925Z
LAST-MODIFIED:20190403T140155Z
UID:34-1554325200-1554325200@folkmusik.nu
SUMMARY:Folkmusikcafé
DESCRIPTION:Anmälan till spellistan på info@folkmusik.nu
URL:https://folkmusik.nu/evenemang/folkmusikcafe/
LOCATION:Skylten\, Skylten\, Linköping\, Sverige
CATEGORIES:Folkmusikcafé
END:VEVENT
END:VCALENDAR