BEGIN:VCALENDAR
VERSION:2.0
PRODID:-//Östgötafolk - ECPv6.15.20//NONSGML v1.0//EN
CALSCALE:GREGORIAN
METHOD:PUBLISH
X-ORIGINAL-URL:https://folkmusik.nu
X-WR-CALDESC:Händelser för Östgötafolk
REFRESH-INTERVAL;VALUE=DURATION:PT1H
X-Robots-Tag:noindex
X-PUBLISHED-TTL:PT1H
BEGIN:VTIMEZONE
TZID:Europe/Stockholm
BEGIN:DAYLIGHT
TZOFFSETFROM:+0100
TZOFFSETTO:+0200
TZNAME:CEST
DTSTART:20210328T010000
END:DAYLIGHT
BEGIN:STANDARD
TZOFFSETFROM:+0200
TZOFFSETTO:+0100
TZNAME:CET
DTSTART:20211031T010000
END:STANDARD
BEGIN:DAYLIGHT
TZOFFSETFROM:+0100
TZOFFSETTO:+0200
TZNAME:CEST
DTSTART:20220327T010000
END:DAYLIGHT
BEGIN:STANDARD
TZOFFSETFROM:+0200
TZOFFSETTO:+0100
TZNAME:CET
DTSTART:20221030T010000
END:STANDARD
BEGIN:DAYLIGHT
TZOFFSETFROM:+0100
TZOFFSETTO:+0200
TZNAME:CEST
DTSTART:20230326T010000
END:DAYLIGHT
BEGIN:STANDARD
TZOFFSETFROM:+0200
TZOFFSETTO:+0100
TZNAME:CET
DTSTART:20231029T010000
END:STANDARD
BEGIN:DAYLIGHT
TZOFFSETFROM:+0100
TZOFFSETTO:+0200
TZNAME:CEST
DTSTART:20240331T010000
END:DAYLIGHT
BEGIN:STANDARD
TZOFFSETFROM:+0200
TZOFFSETTO:+0100
TZNAME:CET
DTSTART:20241027T010000
END:STANDARD
END:VTIMEZONE
BEGIN:VEVENT
DTSTART;TZID=Europe/Stockholm:20231103T190000
DTEND;TZID=Europe/Stockholm:20231103T220000
DTSTAMP:20260424T012500
CREATED:20230829T211542Z
LAST-MODIFIED:20230829T211542Z
UID:24629-1699038000-1699048800@folkmusik.nu
SUMMARY:Folkmusikkafé på Hemslöjdsgården
DESCRIPTION:Fredagskafé \nSpel- och visstuga från kl 19. Dans till spellista från kl 20. Anmälan till spellistan på info@folkmusik.nu eller telefon/sms 0700 160903. Fika serveras till självkostnadspris. \nFritt inträde.
URL:https://folkmusik.nu/evenemang/folkmusikkafe-pa-hemslojdsgarden-5/
LOCATION:Hemslöjdsgården\, Storgatan 41\, Linköping\, Sverige
CATEGORIES:Folkmusikcafé
END:VEVENT
BEGIN:VEVENT
DTSTART;VALUE=DATE:20231013
DTEND;VALUE=DATE:20231015
DTSTAMP:20260424T012500
CREATED:20230829T211110Z
LAST-MODIFIED:20230829T213032Z
UID:24627-1697155200-1697327999@folkmusik.nu
SUMMARY:Norrköpings folkmusikfestival
DESCRIPTION:Läs mer på festival.folkmusik.nu
URL:https://folkmusik.nu/evenemang/norrkopings-folkmusikfestival/
CATEGORIES:Egna evenemang
END:VEVENT
BEGIN:VEVENT
DTSTART;TZID=Europe/Stockholm:20231004T190000
DTEND;TZID=Europe/Stockholm:20231004T220000
DTSTAMP:20260424T012500
CREATED:20230829T210556Z
LAST-MODIFIED:20231003T081112Z
UID:24625-1696446000-1696456800@folkmusik.nu
SUMMARY:Folkmusikkafé på Lunnevads folkhögskola
DESCRIPTION:Onsdagskafé \nLåt- eller danskurs kl 19\, dans till spellista från kl 20. Anmälan till spellistan på info@folkmusik.nu eller telefon/sms 0700160903. Fika serveras. \nFritt inträde
URL:https://folkmusik.nu/evenemang/folkmusikkafe-pa-lunnevads-folkhogskola/
LOCATION:Lunnevads folkhögskola\, Lunnevad\, sjögestad\, Sverige
CATEGORIES:Folkmusikcafé
END:VEVENT
BEGIN:VEVENT
DTSTART;VALUE=DATE:20230902
DTEND;VALUE=DATE:20230904
DTSTAMP:20260424T012500
CREATED:20230829T213547Z
LAST-MODIFIED:20230829T213547Z
UID:24639-1693612800-1693785599@folkmusik.nu
SUMMARY:Evenemangstips: Slakastämman
DESCRIPTION:Välkomna till årets kulturdagar med spelmansstämma i Slaka! \nBåde nytt och gammalt i nöjsam och skön musikalisk och kulturell blandning. Arrangemanget är en del av årets Östgötadagar (hösten). Gör som Ahlberg\, Ek och Roswall\, och många andra den här helgen\, besök Slaka. Varmt välkommen! \nMer info här.
URL:https://folkmusik.nu/evenemang/evenemangstips-slakastamman/
LOCATION:Slaka hembygdsgård\, Slaka\, Sverige
CATEGORIES:Evenemangstips
END:VEVENT
BEGIN:VEVENT
DTSTART;TZID=Europe/Stockholm:20230901T190000
DTEND;TZID=Europe/Stockholm:20230901T220000
DTSTAMP:20260424T012500
CREATED:20230829T210103Z
LAST-MODIFIED:20230829T211638Z
UID:24622-1693594800-1693605600@folkmusik.nu
SUMMARY:Folkmusikkafé på Hemslöjdsgården
DESCRIPTION:Fredagskafé \nSpel- och visstuga från kl 19. Dans till spellista från kl 20. Anmälan till spellistan på info@folkmusik.nu eller telefon/sms 0700 160903. Fika serveras till självkostnadspris. \nFritt inträde.
URL:https://folkmusik.nu/evenemang/folkmusikkafe-pa-hemslojdsgarden-4/
LOCATION:Hemslöjdsgården\, Storgatan 41\, Linköping\, Sverige
CATEGORIES:Folkmusikcafé
END:VEVENT
BEGIN:VEVENT
DTSTART;TZID=Europe/Stockholm:20230805T120000
DTEND;TZID=Europe/Stockholm:20230805T150000
DTSTAMP:20260424T012500
CREATED:20230705T185515Z
LAST-MODIFIED:20230705T185515Z
UID:24615-1691236800-1691247600@folkmusik.nu
SUMMARY:Spelträff på kafé Columbia i Kisa
DESCRIPTION:Ta med ditt instrument och kom och jamma. Lär dig ett par nya låtar och lär ut låtar som du kan själv. Några medlemmar ur Kindabygdens finsk-svenska spelmanslag Resafôlket kommer säkert – kanske du med? \nFritt inträde
URL:https://folkmusik.nu/evenemang/speltraff-pa-kafe-columbia-i-kisa/
LOCATION:Cafe Columbia\, Storgatan 10\, Kisa\, Sverige
CATEGORIES:Egna evenemang
END:VEVENT
BEGIN:VEVENT
DTSTART;TZID=Europe/Stockholm:20230505T190000
DTEND;TZID=Europe/Stockholm:20230505T220000
DTSTAMP:20260424T012500
CREATED:20230119T123949Z
LAST-MODIFIED:20230119T123949Z
UID:19393-1683313200-1683324000@folkmusik.nu
SUMMARY:Folkmusikkafé på Hemslöjdsgården
DESCRIPTION:OBS fredag! \nSpel- och visstuga från kl 19. Dans till spellista  från kl 20. Anmälan till spellistan på info@folkmusik.nu. \nFika serveras till självkostnadspris.
URL:https://folkmusik.nu/evenemang/folkmusikkafe-pa-hemslojdsgarden-3/
LOCATION:Hemslöjdsgården\, Storgatan 41\, Linköping\, Sverige
CATEGORIES:Folkmusikcafé
END:VEVENT
BEGIN:VEVENT
DTSTART;TZID=Europe/Stockholm:20230429T160000
DTEND;TZID=Europe/Stockholm:20230429T220000
DTSTAMP:20260424T012500
CREATED:20230119T123254Z
LAST-MODIFIED:20230422T081107Z
UID:19388-1682784000-1682805600@folkmusik.nu
SUMMARY:Östgötastämman på Kulturakademin i Motala
DESCRIPTION:En ny spelmansstämma som ska äga rum varje år på olika platser i Östergötland. Premiären blir i Motala. \n \nHär är programmet: \nKl 16-23: buskspel \nKurser från kl 16: Danskurs med Ebba Hellsten och Oscar Hörberg\, balladstuga med Marie Länne Persson. \nKonserter från kl 18: Allspel\, Motala världsmusikorkester\, STÅL\, Kalejdoskop trio \nDans från kl 20: kören Tradidá\, STÅL\, Kalejdoskop trio\, dans till spellista \nSTÅL är en folkmusikgrupp bestående av ungdomar från Kulturskolan i Motala. De förkovrar sig främst i svensk folkmusik\, men även en och annan utrikisk låt kan leta sig in på repertoaren.\nSväng utlovas! \nMotala Världsorkester är Motalas nyaste och förmodligen också roligaste orkester. Här välkomnas alla över 18 år oavsett förkunskaper och instrument. Med fokus på glädje och samspel träffas ett 30-tal medlemmar varje måndag för att tillsammans skapa musik från världens alla hörn. Just nu under ledning av Per Eckerbom\, Tobias Hedlund och John Börén. \nFolkmusikkören Tradida finns i både Kisa/Svalsjö och Linköping. Repertoaren består av folkliga visor\, urgamla och nygjorda. I Tradidá leker sångarnas olika röster med rytmer\, klanger och ett sväng som passar finfint till dans.Tradidá leds av Marie Länne Persson. \nKalejdoskop trio utforskar den norska och svenska folkmusiktraditionen i en ovanlig sättning. Sång\, shrutibox\, klarinett och hardingfela skapar tillsammans ett sound med både tät kärna och stor rymlighet – kropp och själ. Musiken bjuder på öppna klanger och tajt sväng\, slåttar\, stev\, koraler och lokk. Kalejdoskop har spelat flera konserter\, bland annat på Vasamuseet och Kungliga Musikhögskolans traditionsrika festival LÅT! och planerar att spela in sin debutskiva under våren 2023.\nSofia Hultqvist Kott – sång\, shrutibox\nGard Nergaard – hardingfela\, altfiol\, sång (kör)\nAlbin Myrin – klarinett\, sång (kör) \nInträde: 80 kr ordinarie\, 60 kr för medlemmar\, studenter och pensionärer\, 40 kr för medlem som är student eller pensionär. \nI samarbete med Bilda och Motala kommun \n\nAllspelslåtar\n \n \n \n \n \nHär dansar vi på bredaste golv å här har vi dansat länge\nHär dansar vi till klockan slår tolv å sen dansar vi åt sängen\n//: Tocka åt dej lite\, sängen är för liten ://\nTocka åt dej å ge mej rum
URL:https://folkmusik.nu/evenemang/ostgotastamman-pa-kulturakademin-i-motala/
LOCATION:Kulturakademin\, Urban Hjärnes väg 6\, Motala
CATEGORIES:Egna evenemang
END:VEVENT
BEGIN:VEVENT
DTSTART;TZID=Europe/Stockholm:20230414T190000
DTEND;TZID=Europe/Stockholm:20230414T210000
DTSTAMP:20260424T012500
CREATED:20230330T115030Z
LAST-MODIFIED:20230330T130734Z
UID:22417-1681498800-1681506000@folkmusik.nu
SUMMARY:Extrainsatt nyckelharpskonsert med Anders Mattsson
DESCRIPTION:Anders Mattsson är uppväxt på gården Grodan och var granne till Eric Sahlström som också är hans största inspirationskälla. Han började spela i tio-årsåldern och fick möjligheten att träffa och spela med de flesta uppländska storspelmännen. Han blev riksspelman 1990 och  vann VM i Nyckelharpa 1994 i Linköping. Anders har genom åren spelat i olika konstellationer som Upplandskvartetten\, Nyckelharpsorkestern och ÖRA. \nInträde 150 kr ordinarie\, 120 kr för medlem\, student eller pensionär\, 90 kr för medlem som är student eller pensionär. \nKonserten genomförs i samarbete med studieförbundet Bilda. Dagen efter konserten ordnar Bilda en spelkurs med Anders Mattsson. Läs mer här \n 
URL:https://folkmusik.nu/evenemang/extrainsatt-nyckelharpskonsert-med-anders-mattsson/
LOCATION:Hemslöjdsgården\, Storgatan 41\, Linköping\, Sverige
CATEGORIES:Egna evenemang
ATTACH;FMTTYPE=image/jpeg:https://folkmusik.nu/wp-content/uploads/2023/03/anders-mattsson.jpg
END:VEVENT
BEGIN:VEVENT
DTSTART;TZID=Europe/Stockholm:20230405T190000
DTEND;TZID=Europe/Stockholm:20230405T220000
DTSTAMP:20260424T012500
CREATED:20230119T122311Z
LAST-MODIFIED:20230330T120007Z
UID:19385-1680721200-1680732000@folkmusik.nu
SUMMARY:Folkmusikkafé på Fontänen - nu med danskurs!
DESCRIPTION:Danskurs från kl 19. Dans till spellista från kl 20. Anmälan till spellistan på info@folkmusik.nu. \nFika serveras till självkostnadspris.
URL:https://folkmusik.nu/evenemang/folkmusikkafe-pa-fontanen-7/
LOCATION:Fontänen\, Västra vägen 32\, Linköping
CATEGORIES:Folkmusikcafé
END:VEVENT
BEGIN:VEVENT
DTSTART;TZID=Europe/Stockholm:20230324T190000
DTEND;TZID=Europe/Stockholm:20230324T210000
DTSTAMP:20260424T012500
CREATED:20230119T121949Z
LAST-MODIFIED:20230320T081235Z
UID:19380-1679684400-1679691600@folkmusik.nu
SUMMARY:Konsert med Quilty i Baptistkyrkan
DESCRIPTION:Quilty har genom åren etablerat sig som Sveriges främsta företrädare för irländsk folkmusik. Under 2023 fyller bandet 30 år. Det firas genom att bjuda in den irländske folkmusiklegendaren Andy Irvine\, som är en av Irlands mest hyllade folk- och världsmusikikoner och en förebild och inspirationskälla för Quilty. Bandet består av Dag Westling\, Gideon Andersson\, Esbjörn Hazelius och Staffan Lindfors. \nVi räknar med publiktryck så kom i tid för att undvika köer. Vi öppnar dörrarna kl 18. När ni betalat ert inträde kan ni t ex ta en fika på Babettes i samma hus. Babettes serverar även fika i pausen men endast mot förbeställning. Fikabiljett kan köpas hos dem. \nInträde på denna konsert: 250 kr ordinarie\, 200 kr för medlemmar\, studenter och pensionärer\, 150 kr för medlem som är student eller pensionär \nObservera att konserten äger rum på en fredag.
URL:https://folkmusik.nu/evenemang/konsert-med-quilty-i-baptistkyrkan/
LOCATION:Baptistkyrkan\, Klostergatan 46\, Linköping
CATEGORIES:Egna evenemang
END:VEVENT
BEGIN:VEVENT
DTSTART;TZID=Europe/Stockholm:20230311T190000
DTEND;TZID=Europe/Stockholm:20230311T210000
DTSTAMP:20260424T012500
CREATED:20230119T115617Z
LAST-MODIFIED:20230302T142353Z
UID:19373-1678561200-1678568400@folkmusik.nu
SUMMARY:Hilleviensemblen på Hallarna\, Norrköping
DESCRIPTION:En musik- och berättarföreställning om Hillevi Öberg som för drygt 100 år sedan\, som enda kvinna\, deltog i en spelmanstävling och imponerade stort på juryn. Hillevis historia berättas genom hennes musik varvat med nyskriven musik av Emma Ahlberg Ek. Hilleviensemblen består av Emma Ahlberg Ek\, Patrik Grundström\, Valter Kinbom och Leif Ottosson. Efter föreställningen blir det spel till dans. \n\n\n\n\nInträde 150 kr. 120 kr för medlemmar\, studenter och pensionärer. 90 kr för medlem som är student eller pensionär. \nHallarnas servering håller öppet fram till kl 21.
URL:https://folkmusik.nu/evenemang/hilleviensemblen-pa-hallarna-norrkoping/
LOCATION:Kulturkvarteret Hallarna\, Tunnbindaregatan 37\, Norrköping\, Sverige
CATEGORIES:Egna evenemang
END:VEVENT
BEGIN:VEVENT
DTSTART;TZID=Europe/Stockholm:20230311T160000
DTEND;TZID=Europe/Stockholm:20230311T180000
DTSTAMP:20260424T012500
CREATED:20230119T120011Z
LAST-MODIFIED:20230119T120011Z
UID:19377-1678550400-1678557600@folkmusik.nu
SUMMARY:Årsmöte
DESCRIPTION:Som vanligt har vi årsmöte i samband med en konsert. Kom och gör din röst hörd. Och ställ upp i styrelsen! Vi är för få aktiva och blir det inte bättre finns risk att föreningen måste läggas ner.
URL:https://folkmusik.nu/evenemang/arsmote-2/
LOCATION:Kulturkvarteret Hallarna\, Tunnbindaregatan 37\, Norrköping\, Sverige
CATEGORIES:Egna evenemang
END:VEVENT
BEGIN:VEVENT
DTSTART;TZID=Europe/Stockholm:20230303T190000
DTEND;TZID=Europe/Stockholm:20230303T220000
DTSTAMP:20260424T012500
CREATED:20230119T114613Z
LAST-MODIFIED:20230119T114613Z
UID:19370-1677870000-1677880800@folkmusik.nu
SUMMARY:Folkmusikkafé på Hemslöjdsgården
DESCRIPTION:För andra gången återvänder folkmusikkafeet till gamla favoritlokalen Hemslöjdsgården. Återigen på en fredag. \nSpel- och visstuga från kl 19. Dans till spellista från kl 20. Anmälan till spellistan på info@folkmusik.nu. \nFika serveras till självkostnadspris.
URL:https://folkmusik.nu/evenemang/folkmusikkafe-pa-hemslojdsgarden-2/
LOCATION:Hemslöjdsgården\, Storgatan 41\, Linköping\, Sverige
CATEGORIES:Folkmusikcafé
END:VEVENT
BEGIN:VEVENT
DTSTART;TZID=Europe/Stockholm:20230201T190000
DTEND;TZID=Europe/Stockholm:20230201T220000
DTSTAMP:20260424T012500
CREATED:20230119T104911Z
LAST-MODIFIED:20230119T104911Z
UID:19368-1675278000-1675288800@folkmusik.nu
SUMMARY:Folkmusikkafé på Fontänen
DESCRIPTION:Spel- och visstuga från kl 19. Dans till spellista  från kl 20. Anmälan till spellistan på info@folkmusik.nu. \nFika serveras till självkostnadspris.
URL:https://folkmusik.nu/evenemang/folkmusikkafe-pa-fontanen-6/
LOCATION:Fontänen\, Västra vägen 32\, Linköping
CATEGORIES:Folkmusikcafé
END:VEVENT
BEGIN:VEVENT
DTSTART;TZID=Europe/Stockholm:20221210T190000
DTEND;TZID=Europe/Stockholm:20221210T220000
DTSTAMP:20260424T012500
CREATED:20220830T085550Z
LAST-MODIFIED:20220830T085550Z
UID:16765-1670698800-1670709600@folkmusik.nu
SUMMARY:Konsert och dans med Trio Wolski på Agora
DESCRIPTION:Med spelglädje och samspelthet skapar Trio Wolski folkmusik som både andas tradition och nyskapande. Genomarbetade arrangemang varvas med fria improvisationer och med deras instrumentsättning skapar de musik som ständigt skiftar i dynamik och intensitet. \nHanna Blomberg – violin\, Petter Ferneman – accordion\, Kristian Wolski – cittern. \nInträde 150 kr. För medlemmar\, studerande och pensionärer 120 kr. För medlem som är studerande eller pensionär 90 kr.
URL:https://folkmusik.nu/evenemang/konsert-och-dans-med-trio-wolski-pa-agora/
LOCATION:Agora\, Skäggetorps centrum 18\, Linköping\, Sverige
CATEGORIES:Egna evenemang
END:VEVENT
BEGIN:VEVENT
DTSTART;TZID=Europe/Stockholm:20221202T190000
DTEND;TZID=Europe/Stockholm:20221202T220000
DTSTAMP:20260424T012500
CREATED:20220830T084048Z
LAST-MODIFIED:20221110T125742Z
UID:16761-1670007600-1670018400@folkmusik.nu
SUMMARY:Folkmusikkafé på Hemslöjdsgården - nu med dansinstruktion
DESCRIPTION:Den 2 december är vi tillbaka i vår gamla favoritlokal Hemslöjdsgården. Onsdagskvällarna är upptagna där så det får bli fredag i stället. \nNytt: Dansinstruktion kl 19. Pröva på att dansa polska\, eller fräscha upp dina gamla kunskaper! \nDans till spellistan från kl 20. Anmälan till spellistan på info@folkmusik.nu. \nFika serveras till självkostnadspris. \n 
URL:https://folkmusik.nu/evenemang/folkmusikkafe-pa-hemslojdsgarden/
LOCATION:Hemslöjdsgården\, Storgatan 41\, Linköping\, Sverige
CATEGORIES:Folkmusikcafé
END:VEVENT
BEGIN:VEVENT
DTSTART;TZID=Europe/Stockholm:20221109T190000
DTEND;TZID=Europe/Stockholm:20221109T220000
DTSTAMP:20260424T012500
CREATED:20220830T083246Z
LAST-MODIFIED:20220830T084530Z
UID:16757-1668020400-1668031200@folkmusik.nu
SUMMARY:Folkmusikkafé på Lunnevad
DESCRIPTION:November månads folkmusikkafé ordnas i samarbete med Lunnevads folkhögskola. Spel- och visstuga från kl 19. Dans till spellista från kl 20. Anmälan till spellistan på info@folkmusik.nu. \n 
URL:https://folkmusik.nu/evenemang/folkmusikkafe-pa-lunnevad/
LOCATION:Lunnevads folkhögskola\, Lunnevad\, sjögestad\, Sverige
CATEGORIES:Folkmusikcafé
END:VEVENT
BEGIN:VEVENT
DTSTART;TZID=Europe/Stockholm:20221007T180000
DTEND;TZID=Europe/Stockholm:20221008T235900
DTSTAMP:20260424T012500
CREATED:20220830T081630Z
LAST-MODIFIED:20220830T084818Z
UID:16754-1665165600-1665273540@folkmusik.nu
SUMMARY:Norrköpings folkmusikfestival
DESCRIPTION:Festivalen är tillbaka\, nu utan pandemirestriktioner! \nFredag och lördag i Flygeln\, Värmekyrkan\, Stage Skandia och Arbetets museum i Norrköping. Mer info om programmet kommer snart. Här  hittar du festivalens hemsida.
URL:https://folkmusik.nu/evenemang/norrkopings-folkmusikfestival-2/
CATEGORIES:Egna evenemang
END:VEVENT
BEGIN:VEVENT
DTSTART;TZID=Europe/Stockholm:20220918T150000
DTEND;TZID=Europe/Stockholm:20220918T170000
DTSTAMP:20260424T012500
CREATED:20220830T080733Z
LAST-MODIFIED:20220830T080733Z
UID:16750-1663513200-1663520400@folkmusik.nu
SUMMARY:Konsert: Låtar från Kinda med omnejd med Pelle Jensen och Bengt Ståhlbom
DESCRIPTION:Det blir folkmusik på fioler\, svensk säckpipa och kanske annat från gränstrakterna mellan Småland och Östergötland. Navet i det geografiska hjulet är Kinda och musiken rör sig från ostkusten till Sommen. \nRiksspelman Pelle Jensen och Bengt Ståhlbom\, båda boende i Kinda med omnejd\, har musicerat tillsammans i flera decennier och har specialiserat sig på den lokala folkmusiken. De gillar att variera klanger och rytmer med olika instrument. Det blir dansant och varierad musik efter spelmän som levt i trakterna.
URL:https://folkmusik.nu/evenemang/konsert-latar-fran-kinda-med-omnejd-med-pelle-jensen-och-bengt-stahlbom/
LOCATION:Cafe Columbia\, Storgatan 10\, Kisa\, Sverige
CATEGORIES:Egna evenemang
END:VEVENT
BEGIN:VEVENT
DTSTART;TZID=Europe/Stockholm:20220907T190000
DTEND;TZID=Europe/Stockholm:20220907T220000
DTSTAMP:20260424T012500
CREATED:20220817T074844Z
LAST-MODIFIED:20220830T084842Z
UID:16743-1662577200-1662588000@folkmusik.nu
SUMMARY:Folkmusikkafé på Fontänen
DESCRIPTION:Höstens första folkmusikkafé blir på Fontänen. Spel- och visstuga från kl 19. Dans till spellista från kl 20. Anmälan till spellistan på info@folkmusik.nu. \nFika serveras till självkostnadspris.
URL:https://folkmusik.nu/evenemang/folkmusikkafe-pa-fontanen-5/
LOCATION:Fontänen\, Västra vägen 32\, Linköping
CATEGORIES:Folkmusikcafé
END:VEVENT
BEGIN:VEVENT
DTSTART;TZID=Europe/Stockholm:20220903T103000
DTEND;TZID=Europe/Stockholm:20220904T160000
DTSTAMP:20260424T012500
CREATED:20220817T074236Z
LAST-MODIFIED:20220817T074236Z
UID:16740-1662201000-1662307200@folkmusik.nu
SUMMARY:Evenemangstips: Slakastämman +  Slaka kulturdagar
DESCRIPTION:Slakastämman är tillbaka efter pandemin! \nPå lördagen blir det buskspel\, allspel\, folkmusikgudstjänst\, vandring till Slaka källa\, spelstuga och berättarstund med Pelle Björnlert\, balladdans\,  samt konsert med Pelle Björnlert och Johan Hedin. Dessutom fotoutställning och guidning i Slaka kyrka. Fritt inträde förutom konserten som kostar 120 kr. \nPå söndagen fortsätter programmet med fotoutställning\, hantverk för barn\, sånglekar\, visstuga och öppet hus i hembygdsgården. \nFullständigt program finns här
URL:https://folkmusik.nu/evenemang/evenemangstips-slakastamman-slaka-kulturdagar/
LOCATION:Slaka hembygdsgård\, Slaka\, Sverige
END:VEVENT
BEGIN:VEVENT
DTSTART;TZID=Europe/Stockholm:20220826T170000
DTEND;TZID=Europe/Stockholm:20220827T233000
DTSTAMP:20260424T012500
CREATED:20220801T121549Z
LAST-MODIFIED:20220802T072858Z
UID:16304-1661533200-1661643000@folkmusik.nu
SUMMARY:Evenemangstips: Svalsjöfolk
DESCRIPTION:För andra året i rad arrangeras Svalsjöfolk på Örsebo södergård i Svalsjö. \nÅrets artister är Lena Jonsson Trio\, Göta\, Nordic\, Josefin&Odjuren\, Rydvall&Mjelva\, Samuelsson&Öberg\, Mikael Fall\, Rune Persson\,Klintetten\, Lisas\, ResaFÖLK\, Eva Tjörnebo&Viskompaniet\, Tradidá\, Kongero\, Erik&Katarina Hammarström\, Tzeitel\, Silverspel. \nDessutom spel- sång- och danskurser\, och givetvis spel till dans. \nLäs mer här!
URL:https://folkmusik.nu/evenemang/evenemangstips-svalsjofolk-2/
LOCATION:Svalsjö\, Svalsjö\, Sverige
END:VEVENT
BEGIN:VEVENT
DTSTART;VALUE=DATE:20220813
DTEND;VALUE=DATE:20220814
DTSTAMP:20260424T012501
CREATED:20220728T081241Z
LAST-MODIFIED:20220728T081241Z
UID:16287-1660348800-1660435199@folkmusik.nu
SUMMARY:Linköpingsstämman
DESCRIPTION:Huvudkonsert: Zorns Folkmusik – Jeanett Walerholt Rousu\, Peter Rousu\, Malin Foxdal och Henrik Eriksson \nLinköpingsstämman är tillbaka lördagen den 13 augusti\, och år firar vi 50 år som evenemang med ett extra späckat program! I år anordnas stämman dessutom som avslutning på årets Zornmärkesuppspelningar som hålls i Landerydsgården\, Linköping 8-12 augusti. Stämman flyttar i år tillbaka till Gamla Linköping\, ett fantastiskt kulturområde där buskspelet och dansen kommer till sin rätt i historiska miljöer. Årets program är fyllt med kurser i sång\, dans och låt- samt kompspel\, små och stora konserter samt dans- dräktuppvisningar. Även på fredagen den 12e augusti planeras konsert och kurser med Emilia Amper Trio i Zornveckans regi. Se det gärna som en förstämma med tillfälle för extra spel och dans! \nStämman är ett samarbete mellan Östergötlands spelmansförbund\, Folkungagillet och Östgötafolk\, med stöd av Kultur- och fritidsnämnden\, Kulturens och Bilda. \nLänk till hela programmet
URL:https://folkmusik.nu/evenemang/linkopingsstamman/
LOCATION:Gamla Linköping\, Tunnbindaregatan 1\, Linköping\, Sverige
END:VEVENT
BEGIN:VEVENT
DTSTART;TZID=Europe/Stockholm:20220812T180000
DTEND;TZID=Europe/Stockholm:20220812T180000
DTSTAMP:20260424T012501
CREATED:20220728T081811Z
LAST-MODIFIED:20220802T074327Z
UID:16291-1660327200-1660327200@folkmusik.nu
SUMMARY:Evenemangstips: Förstämma inför Linköpingsstämman
DESCRIPTION:PROGRAM \nÖVRE SALEN\nKl.19 Konsert\nSyskonen Samuelsson\, John\, Axel \,Elias och Syskonen Lundberg\, Torbjörn och Thyra agerar förband till Emilia Ampers trio.\nKl 20 Konsert Emilia Amper Trio\nPrisbelönade nyckelharpisten\, sångerskan och kompositören Emilia Amper får här sällskap av älskade musikerkollegerna Anders Löfberg på cello och Dan Knagg på slagverk. Här bjuds det på både hårdsvängande\, vacker och berörande folkmusik när trion med ett stort mått av lekfullhet och virtuositet bjuder på en blandning av svenska tradlåtar och Emilias egna kompositioner.\nKl 21 Spel till dans Emilia Ampers trio.\nKl 22 Spel till dans Samuelsson/Lundberg\nKl 22.30 Spel till dans Per Eckerbom\, David Bastviken och Rune Persson\nMedryckande dansmusik bl.a. Värmländsk.\nKl 23.30 Spel till dans Strängar o rör. Linköpings studentspelmanslag.\nNEDRE SALEN\nKl 18-19 Konsert Östgötska Riksspelmän\nKl 21 Spelstuga\nKl 21.45 Övning inför lördagens allspel\nKl. 22.30 Spelstuga med Emilia Amper\nKl. 23.15 Spelstuga med Anders Löfberg\nHELA HUSET Kl. 18-sent Möjligheter till skrubbspel \nSlut kl 01 på natten. \nEntré 150 kr/ Stud. 100 kr
URL:https://folkmusik.nu/evenemang/forstamma/
LOCATION:Landerydgården\, Landerydgården\, Linköping\, Sverige
END:VEVENT
BEGIN:VEVENT
DTSTART;VALUE=DATE:20220808
DTEND;VALUE=DATE:20220814
DTSTAMP:20260424T012501
CREATED:20220725T220153Z
LAST-MODIFIED:20220725T220153Z
UID:16285-1659916800-1660435199@folkmusik.nu
SUMMARY:Evenemangstips: Zornveckan
DESCRIPTION:Spelmän som vill föräras det åtråvärda Zornmärket samlas i år i Linköping 8-13 augusti. Svenska folkdansringen\, Folkungagillet och Östergötlands spelmansförbund står gemensamt för arrangemanget. Det blir Zornmärkesuppspelningar\, konserter\, allspel\, workshops\, dräktvisning\, spelstugor\, låtkurser\, durspelskurs\, danskurser och dans\, på Landerydgården och i Gamla Linköping. Läs mer här
URL:https://folkmusik.nu/evenemang/evenemangstips-zornveckan/
LOCATION:Landerydgården\, Landerydgården\, Linköping\, Sverige
CATEGORIES:Evenemangstips
END:VEVENT
BEGIN:VEVENT
DTSTART;TZID=Europe/Stockholm:20220806T143000
DTEND;TZID=Europe/Stockholm:20220806T163000
DTSTAMP:20260424T012501
CREATED:20220801T115303Z
LAST-MODIFIED:20220802T074036Z
UID:16297-1659796200-1659803400@folkmusik.nu
SUMMARY:Konsert med David Siljat
DESCRIPTION:Tranås Hembygdskafé i samarbete med Östgötafolk bjuder in till en eftermiddag med fiolspelmannen och sångaren David Siljat.\n\n \n\nDavid har många strängar på sin musikaliska lyra. Han har spelat fiol sedan unga år men började med folkmusik först i 20-årsåldern. 2009–2010 gick han ett år på Eric Sahlströminstitutet i Tobo\, Uppland för att lära sig spela nyckelharpa. Där väcktes intresset för instrumentbygge\, folkliga visor och medeltida ballader. David blev mycket inspirerad av de olika gästlärarna på ettårskursen och av dem gjorde guldmärkesspelmannen Bosse Larsson\, Björklinge och trallaren Anders Larsson\, Strängnäs extra djupt intryck. Bosse är brorson till Viksta Lasse som var elev till storspelmannen Hjort Anders Olsson\, och låttraditionen efter dem är en smältdegel av musiken från Uppland\, Dalarna och Hälsingland. David har tillägnat sig ett stort låtmaterial och ett flertal visor efter Bosse\, och de ligger honom alla varmt om hjärtat.\n\nDavid spelar på kaféet under eftermiddagen och bjuder på låtar ur sin digra repertoar från Dalarna och Uppland. Och har vi tur sjunger han något för oss!
URL:https://folkmusik.nu/evenemang/konsert-med-david-siljat/
LOCATION:Tranås hembygdskafe\, Ekliden 16\, Tranås\, Sverige
END:VEVENT
BEGIN:VEVENT
DTSTART;TZID=Europe/Stockholm:20220504T190000
DTEND;TZID=Europe/Stockholm:20220504T220000
DTSTAMP:20260424T012501
CREATED:20220214T132944Z
LAST-MODIFIED:20220221T110728Z
UID:12853-1651690800-1651701600@folkmusik.nu
SUMMARY:Folkmusikkafé med Pelle Björnlert på Fontänen
DESCRIPTION:Detta blir inget vanligt folkmusikkafé. Här finns nämligen chansen att dansa till FiLs favoritspelman Pelle Björnlerts musik. Vågar vi gissa att dansgolvet blir fullt…? \nPelle Björnlert inleder med en konsert kl 19. Därefter dans till Pelle Björnlert och till spellista\, Anmälan till spellistan på info@folkmusik.nu. \nFika serveras till självkostnadspris.
URL:https://folkmusik.nu/evenemang/folkmusikkafe-med-pelle-bjornlert-pa-fontanen/
LOCATION:Fontänen\, Västra vägen 32\, Linköping
END:VEVENT
BEGIN:VEVENT
DTSTART;TZID=Europe/Stockholm:20220429T190000
DTEND;TZID=Europe/Stockholm:20220429T220000
DTSTAMP:20260424T012501
CREATED:20220214T133407Z
LAST-MODIFIED:20220420T200151Z
UID:12850-1651258800-1651269600@folkmusik.nu
SUMMARY:Kandels kapell på Agora
DESCRIPTION:Kandels Kapell har under de senaste 25 åren spelat klezmermusik med inslag av musik från balkanområdet. Klezmer är den musik som spelades i judiska sammanhang i framförallt central- och östeuropa. Musiken användes vid sorg och glädje och vid alla livets tillfällen som är värda att uppmärksammas. Musiken är oftast instrumental även om sång förekommer. Dans förekommer så fort tillfälle ges. Släktskap finns med övrig folklig musik från samma områden och därför har det känts naturligt att plocka in musik med rötter även utanför den judiska kultursfären. \nKom och pröva på klezmerns virvlande långdanser. Dansinstruktör kommer att finnas på plats. \nInträde 150 kr ordinarie\, 120 kr för medlemmar\, studerande och pensionärer\, 90 kr för medlem som är studerande eller pensionär.
URL:https://folkmusik.nu/evenemang/kandels-kapell-pa-agora/
LOCATION:Agora\, Skäggetorps centrum 18\, Linköping\, Sverige
END:VEVENT
BEGIN:VEVENT
DTSTART;TZID=Europe/Stockholm:20220406T190000
DTEND;TZID=Europe/Stockholm:20220406T220000
DTSTAMP:20260424T012501
CREATED:20220214T123040Z
LAST-MODIFIED:20220214T133144Z
UID:12848-1649271600-1649282400@folkmusik.nu
SUMMARY:Folkmusikkafé på Fontänen
DESCRIPTION:Spel- och visstuga från kl 19. Dans till spellista från kl 20. Anmälan till spellistan på info@folkmusik.nu. \nFika serveras till självkostnadspris.
URL:https://folkmusik.nu/evenemang/folkmusikkafe-pa-fontanen-4/
LOCATION:Fontänen\, Västra vägen 32\, Linköping
END:VEVENT
END:VCALENDAR